BEGIN:VCALENDAR
VERSION:2.0
PRODID:icalendar-ruby
CALSCALE:GREGORIAN
METHOD:PUBLISH
BEGIN:VEVENT
DTSTAMP:20260421T175409Z
UID:11-301285@sacredspacemin.com
DTSTART:20260813T013000Z
DTEND:20260813T023000Z
CLASS:PUBLIC
CREATED:20260421T103104
DESCRIPTION:SOAR Bible Studies with Sacred Space
LAST-MODIFIED:20260421T103104
LOCATION:Online Only
SUMMARY:SOAR Bible Studies with Sacred Space
URL;VALUE=URI:https://www.sacredspacemin.com/events/soar-bible-studies-with
 -sacred-space/2026-08-12
ATTACH;FILENAME=ChatGPT-Image-Jul-16%2C-2025%2C-05_31_54-PM.png;FMTTYPE=ima
 ge/png:https://dq5pwpg1q8ru0.cloudfront.net/2025/07/16/22/38/19/197d8a33-3
 d92-47d2-b1a2-8d4d404c5f4c/ChatGPT-Image-Jul-16%252C-2025%252C-05_31_54-PM
 .png
ATTACH;FILENAME=Jeremiah_18_Study_Notes_and_Homework.docx;FMTTYPE=applicati
 on/vnd.openxmlformats-officedocument.wordprocessingml.document:https://dq5
 pwpg1q8ru0.cloudfront.net/2025/07/16/22/38/18/b5bcd460-c074-4e63-a724-3243
 e27e3b97/Jeremiah_18_Study_Notes_and_Homework.docx
ATTACH;FILENAME=Leaking_Systems_Study_Notes.pdf;FMTTYPE=application/pdf:htt
 ps://dq5pwpg1q8ru0.cloudfront.net/2025/07/09/21/37/29/2b343ead-0d94-4609-b
 eb7-f806583d9d88/Leaking_Systems_Study_Notes.pdf
ATTACH;FILENAME=Living Wells or Cisterns Participant Notes Bible Study.docx
 ;FMTTYPE=application/vnd.openxmlformats-officedocument.wordprocessingml.do
 cument:https://dq5pwpg1q8ru0.cloudfront.net/2025/07/02/05/32/49/e7001c76-b
 5c5-4c85-b138-642130f544f9/Living%20Wells%20or%20Cisterns%20Participant%20
 Notes%20Bible%20Study.docx
END:VEVENT
END:VCALENDAR
